BEGIN:VCALENDAR
VERSION:2.0
PRODID:-//Tukios.com/
BEGIN:VEVENT
UID:1d9b3b23-a9dc-49c3-b8d3-d0d294fdc90b@www.nordikefuneralhome.com
DTSTAMP:20260422T083900Z
DTSTART:20260425T130000Z
DTEND:20260425T154500Z
SUMMARY:Visitation
DESCRIPTION:
URL:https://www.nordikefuneralhome.com/obituaries/trudy-strieker
LOCATION: 251 South Clinton Street  Aviston IL 62216
GEO:38.6063946;-89.6073949
END:VEVENT
END:VCALENDAR