BEGIN:VCALENDAR
VERSION:2.0
PRODID:-//Tukios.com/
BEGIN:VEVENT
UID:ebd3421a-26f3-4e5e-8dea-690d740a34e8@www.nordikefuneralhome.com
DTSTAMP:20260423T012440Z
DTSTART:20260427T183000Z
DTEND:20260427T190000Z
SUMMARY:Burial
DESCRIPTION:
URL:https://www.nordikefuneralhome.com/obituaries/thomas-rakers
LOCATION:  Lake Road  Carlyle IL 62231
GEO:38.6303991;-89.3610051
END:VEVENT
END:VCALENDAR