BEGIN:VCALENDAR
VERSION:2.0
PRODID:-//Tukios.com/
BEGIN:VEVENT
UID:a377c01e-3c73-4e6c-83f1-8e3bb85a65b4@www.nordikefuneralhome.com
DTSTAMP:20260423T012507Z
DTSTART:20260427T180000Z
DTEND:20260427T183000Z
SUMMARY:Funeral Service
DESCRIPTION:
URL:https://www.nordikefuneralhome.com/obituaries/thomas-rakers
LOCATION: 740 Fairfax St  Carlyle IL 62231
GEO:38.6109301;-89.3670938
END:VEVENT
END:VCALENDAR