BEGIN:VCALENDAR
VERSION:2.0
PRODID:-//Tukios.com/
BEGIN:VEVENT
UID:9e228e3b-7e45-471a-a53f-d699532a4c93@www.nordikefuneralhome.com
DTSTAMP:20260423T012814Z
DTSTART:20260427T160000Z
DTEND:20260427T180000Z
SUMMARY:Visitation
DESCRIPTION:
URL:https://www.nordikefuneralhome.com/obituaries/thomas-rakers
LOCATION: 740 Fairfax St  Carlyle IL 62231
GEO:38.6109301;-89.3670938
END:VEVENT
END:VCALENDAR