BEGIN:VCALENDAR
VERSION:2.0
PRODID:-//Tukios.com/
BEGIN:VEVENT
UID:d4dedb22-e38b-48e6-8a8a-469353c82149@www.nordikefuneralhome.com
DTSTAMP:20260423T231646Z
DTSTART:20260501T150000Z
DTEND:20260501T180000Z
SUMMARY:Visitation
DESCRIPTION:
URL:https://www.nordikefuneralhome.com/obituaries/lee-monical
LOCATION: 15 E Hanover St  New Baden IL 62265
GEO:38.5347721;-89.6996139
END:VEVENT
END:VCALENDAR