BEGIN:VCALENDAR
VERSION:2.0
PRODID:-//Tukios.com/
BEGIN:VEVENT
UID:11f0fdba-b49d-4e3f-b4df-f3cbb338d998@www.nordikefuneralhome.com
DTSTAMP:20260424T202357Z
DTSTART:20260509T170000Z
DTEND:20260509T173000Z
SUMMARY:Inurnment
DESCRIPTION:
URL:https://www.nordikefuneralhome.com/obituaries/james-nehrt
LOCATION:  Lake Road  Carlyle IL 62231
GEO:38.6303991;-89.3610051
END:VEVENT
END:VCALENDAR