BEGIN:VCALENDAR
VERSION:2.0
PRODID:-//Tukios.com/
BEGIN:VEVENT
UID:e8d3bb5f-143a-44af-be02-3d02730b26c7@www.nordikefuneralhome.com
DTSTAMP:20260424T202538Z
DTSTART:20260509T140000Z
DTEND:20260509T160000Z
SUMMARY:Visitation
DESCRIPTION:
URL:https://www.nordikefuneralhome.com/obituaries/james-nehrt
LOCATION: 1091 13th Street  Carlyle IL 62231
GEO:38.6157447;-89.3745987
END:VEVENT
END:VCALENDAR