BEGIN:VCALENDAR
VERSION:2.0
PRODID:-//Tukios.com/
BEGIN:VEVENT
UID:46557c68-71be-47c0-b144-7aee27a164de@www.nordikefuneralhome.com
DTSTAMP:20260424T202742Z
DTSTART:20260509T160000Z
DTEND:20260509T170000Z
SUMMARY:Celebration of Life
DESCRIPTION:
URL:https://www.nordikefuneralhome.com/obituaries/james-nehrt
LOCATION: 1091 13th Street  Carlyle IL 62231
GEO:38.6157447;-89.3745987
END:VEVENT
END:VCALENDAR