BEGIN:VCALENDAR
VERSION:2.0
PRODID:-//Tukios.com/
BEGIN:VEVENT
UID:75b301ec-3ac7-4a36-abac-32e72a3c5121@www.nordikefuneralhome.com
DTSTAMP:20260421T224949Z
DTSTART:20260425T171500Z
DTEND:20260425T174500Z
SUMMARY:Burial
DESCRIPTION:
URL:https://www.nordikefuneralhome.com/obituaries/edith-skrobul
LOCATION: 38.59791991358777, -89.44682994572845  Beckemeyer IL 62219
GEO:38.6063814;-89.4334342
END:VEVENT
END:VCALENDAR