BEGIN:VCALENDAR
VERSION:2.0
PRODID:-//Tukios.com/
BEGIN:VEVENT
UID:317bf84f-268b-4be9-9d47-2c211ede3cf0@www.nordikefuneralhome.com
DTSTAMP:20260421T225432Z
DTSTART:20260425T160000Z
DTEND:20260425T170000Z
SUMMARY:Mass
DESCRIPTION:
URL:https://www.nordikefuneralhome.com/obituaries/edith-skrobul
LOCATION: 451 West 3rd Street  Beckemeyer IL 62219
GEO:38.6036689;-89.4404931
END:VEVENT
END:VCALENDAR