BEGIN:VCALENDAR
VERSION:2.0
PRODID:-//Tukios.com/
BEGIN:VEVENT
UID:52aeea17-7074-41d4-a439-c95083ac1403@www.nordikefuneralhome.com
DTSTAMP:20260421T225253Z
DTSTART:20260425T143000Z
DTEND:20260425T154500Z
SUMMARY:Visitation
DESCRIPTION:
URL:https://www.nordikefuneralhome.com/obituaries/edith-skrobul
LOCATION: 451 West 3rd Street  Beckemeyer IL 62219
GEO:38.6036689;-89.4404931
END:VEVENT
END:VCALENDAR