BEGIN:VCALENDAR
VERSION:2.0
PRODID:-//Tukios.com/
BEGIN:VEVENT
UID:f6d711b0-724c-48fb-b886-ae33c80322a7@www.nordikefuneralhome.com
DTSTAMP:20260421T022527Z
DTSTART:20260502T160000Z
DTEND:20260502T170000Z
SUMMARY:Funeral Service
DESCRIPTION:
URL:https://www.nordikefuneralhome.com/obituaries/dorothy-bridgeforth
LOCATION: 15 E Hanover St  New Baden IL 62265
GEO:38.5347721;-89.6996139
END:VEVENT
END:VCALENDAR