BEGIN:VCALENDAR
VERSION:2.0
PRODID:-//Tukios.com/
BEGIN:VEVENT
UID:9dd60bd9-795e-439c-a756-ba91c08c1b6d@www.nordikefuneralhome.com
DTSTAMP:20260421T022917Z
DTSTART:20260502T140000Z
DTEND:20260502T160000Z
SUMMARY:Visitation
DESCRIPTION:
URL:https://www.nordikefuneralhome.com/obituaries/dorothy-bridgeforth
LOCATION: 15 E Hanover St  New Baden IL 62265
GEO:38.5347721;-89.6996139
END:VEVENT
END:VCALENDAR